BEGIN:VCALENDAR
CALSCALE:GREGORIAN
VERSION:2.0
METHOD:PUBLISH 
X-WR-CALNAME:
BEGIN:VEVENT
DTSTART;TZID=Europe/Paris:20260418T200000
DTEND;TZID=Europe/Paris:20260418T210000
SUMMARY:Choeur de Sainte Foy des Vignes
CATEGORIE:Concerts et Musique
GEO:44.68937960000000;0.32592415000000
LOCATION:Eglise\, 47120 Soumensac\, France
URL:https://www.fest.fr/e/2417240
UID:2417240-1@fest.fr
END:VEVENT
END:VCALENDAR
