BEGIN:VCALENDAR
CALSCALE:GREGORIAN
VERSION:2.0
METHOD:PUBLISH 
X-WR-CALNAME:
BEGIN:VEVENT
DTSTART;TZID=Europe/Paris:20260425T203000
DTEND;TZID=Europe/Paris:20260425T213000
SUMMARY:Revue Cabaret avec la Compagnie Dana Rev
CATEGORIE:Spectacles et Théâtre
GEO:44.29368970000000;0.69324930000000
LOCATION:76 rue de l'enfance
Salle des fêtes\, 47340 La Croix-Blanche\, France
URL:https://www.fest.fr/e/2417127
UID:2417127-1@fest.fr
END:VEVENT
END:VCALENDAR
