BEGIN:VCALENDAR
CALSCALE:GREGORIAN
VERSION:2.0
METHOD:PUBLISH 
X-WR-CALNAME:
BEGIN:VEVENT
DTSTART;TZID=Europe/Paris:20260826T100000
DTEND;TZID=Europe/Paris:20260826T110000
SUMMARY:Pilates sur la plage
CATEGORIE:Stages, Ateliers et Initiations
GEO:43.38778430000000;-1.67011970000000
LOCATION:Plage du centre\, 64500 Ciboure\, France
URL:https://www.fest.fr/e/2417122
UID:2417122-1@fest.fr
END:VEVENT
END:VCALENDAR
