BEGIN:VCALENDAR
CALSCALE:GREGORIAN
VERSION:2.0
METHOD:PUBLISH 
X-WR-CALNAME:
BEGIN:VEVENT
DTSTART;TZID=Europe/Paris:20261030T160000
DTEND;TZID=Europe/Paris:20261030T170000
SUMMARY:Démonstration de découpe de canard
CATEGORIE:Expositions, Visites et Découvertes
GEO:43.69960200000000;-0.37999100000000
LOCATION:Ferme du Moulin de Labat
route de nicolas\, 40320 Eugénie-les-Bains\, France
URL:https://www.fest.fr/e/2417099
UID:2417099-1@fest.fr
END:VEVENT
END:VCALENDAR
