BEGIN:VCALENDAR
CALSCALE:GREGORIAN
VERSION:2.0
METHOD:PUBLISH 
X-WR-CALNAME:
BEGIN:VEVENT
DTSTART;TZID=Europe/Paris:20260416T100000
DTEND;TZID=Europe/Paris:20260416T110000
SUMMARY:Découvrir l’impression 3D - ATELIERS NUMERIQUES
CATEGORIE:Stages, Ateliers et Initiations
GEO:43.61701820000000;-1.17004820000000
LOCATION:Mairie
Route de la Payolle\, 40300 Saint-Lon-les-Mines\, France
URL:https://www.fest.fr/e/2416459
UID:2416459-1@fest.fr
END:VEVENT
END:VCALENDAR
