BEGIN:VCALENDAR
CALSCALE:GREGORIAN
VERSION:2.0
METHOD:PUBLISH 
X-WR-CALNAME:
BEGIN:VEVENT
DTSTART;TZID=Europe/Paris:20260827T103000
DTEND;TZID=Europe/Paris:20260827T113000
SUMMARY:Animation Famille - Initiation aux arts du Cirque
CATEGORIE:Stages, Ateliers et Initiations
GEO:43.37156170000000;-1.77313180000000
LOCATION:Boulevard du Général Leclerc
Rond-Point du Palmier\, 64700 Hendaye\, France
URL:https://www.fest.fr/e/2416438
UID:2416438-1@fest.fr
END:VEVENT
END:VCALENDAR
