BEGIN:VCALENDAR
CALSCALE:GREGORIAN
VERSION:2.0
METHOD:PUBLISH 
X-WR-CALNAME:
BEGIN:VEVENT
DTSTART;TZID=Europe/Paris:20260530T143000
DTEND;TZID=Europe/Paris:20260530T153000
SUMMARY:Course cyclo, la ronde des château
CATEGORIE:Sports
GEO:45.83545190000000;0.84179340000000
LOCATION:Rue du Chemin de Fer\, 87600 Rochechouart\, France
URL:https://www.fest.fr/e/2416334
UID:2416334-1@fest.fr
END:VEVENT
END:VCALENDAR
