BEGIN:VCALENDAR
CALSCALE:GREGORIAN
VERSION:2.0
METHOD:PUBLISH 
X-WR-CALNAME:
BEGIN:VEVENT
DTSTART;TZID=Europe/Paris:20260425T140000
DTEND;TZID=Europe/Paris:20260425T150000
SUMMARY:De Ferme en Ferme
CATEGORIE:Expositions, Visites et Découvertes
GEO:43.47714590000000;-0.94013780000000
LOCATION:43 avenue Al cartero
Les Jardins du Lien\, 64270 Salies-de-Béarn\, France
URL:https://www.fest.fr/e/2416252
UID:2416252-1@fest.fr
END:VEVENT
END:VCALENDAR
