BEGIN:VCALENDAR
CALSCALE:GREGORIAN
VERSION:2.0
METHOD:PUBLISH 
X-WR-CALNAME:
BEGIN:VEVENT
DTSTART;TZID=Europe/Paris:20260411T093000
DTEND;TZID=Europe/Paris:20260411T103000
SUMMARY:Journée Chill - Yoga, bien-être
CATEGORIE:Stages, Ateliers et Initiations
GEO:45.43992100000000;1.11808700000000
LOCATION:Domaine du Mas Coutant
Lieu dit Mascoutant\, 24270 Sarlande\, France
URL:https://www.fest.fr/e/2416249
UID:2416249-1@fest.fr
END:VEVENT
END:VCALENDAR
