BEGIN:VCALENDAR
CALSCALE:GREGORIAN
VERSION:2.0
METHOD:PUBLISH 
X-WR-CALNAME:
BEGIN:VEVENT
DTSTART;TZID=Europe/Paris:20261028T143000
DTEND;TZID=Europe/Paris:20261028T153000
SUMMARY:Atelier Gravure sur pierre
CATEGORIE:Stages, Ateliers et Initiations
GEO:43.63413000000000;-0.69476000000000
LOCATION:404 Rue du Musée
PréhistoSite\, 40330 Brassempouy\, France
URL:https://www.fest.fr/e/2416248
UID:2416248-1@fest.fr
END:VEVENT
END:VCALENDAR
