BEGIN:VCALENDAR
CALSCALE:GREGORIAN
VERSION:2.0
METHOD:PUBLISH 
X-WR-CALNAME:
BEGIN:VEVENT
DTSTART;TZID=Europe/Paris:20260408T150000
DTEND;TZID=Europe/Paris:20260408T160000
SUMMARY:Découverte et initiation course landaise
CATEGORIE:Stages, Ateliers et Initiations
GEO:43.71297330000000;-1.05001270000000
LOCATION:Arènes
Parc Théodore Denis\, 40100 Dax\, France
URL:https://www.fest.fr/e/2416184
UID:2416184-1@fest.fr
END:VEVENT
END:VCALENDAR
