BEGIN:VCALENDAR
CALSCALE:GREGORIAN
VERSION:2.0
METHOD:PUBLISH 
X-WR-CALNAME:
BEGIN:VEVENT
DTSTART;TZID=Europe/Paris:20260423T163000
DTEND;TZID=Europe/Paris:20260423T173000
SUMMARY:Visite guidée : Savourez Dax
CATEGORIE:Expositions, Visites et Découvertes
GEO:43.70990140000000;-1.05550980000000
LOCATION:11 cours Foch
RDV Office de tourisme\, 40100 Dax\, France
URL:https://www.fest.fr/e/2416152
UID:2416152-1@fest.fr
END:VEVENT
END:VCALENDAR
