BEGIN:VCALENDAR
CALSCALE:GREGORIAN
VERSION:2.0
METHOD:PUBLISH 
X-WR-CALNAME:
BEGIN:VEVENT
DTSTART;TZID=Europe/Paris:20260529T180000
DTEND;TZID=Europe/Paris:20260529T190000
SUMMARY:Scène ouverte : chant lyrique
CATEGORIE:Concerts et Musique
GEO:44.83511700000000;-0.58675900000000
LOCATION:Bibliothèque Mériadeck\, 85 Cours Maréchal Juin\, 33000 Bordeaux\, France
URL:https://www.fest.fr/e/2416122
UID:2416122-1@fest.fr
END:VEVENT
END:VCALENDAR
