BEGIN:VCALENDAR
CALSCALE:GREGORIAN
VERSION:2.0
METHOD:PUBLISH 
X-WR-CALNAME:
BEGIN:VEVENT
DTSTART;TZID=Europe/Paris:20260418T093000
DTEND;TZID=Europe/Paris:20260418T103000
SUMMARY:Stage roue rouge urbain
CATEGORIE:Stages, Ateliers et Initiations
GEO:44.55204050000000;-0.86993020000000
LOCATION:34 rue va au champ\, 33770 Salles\, France
URL:https://www.fest.fr/e/2416065
UID:2416065-1@fest.fr
END:VEVENT
END:VCALENDAR
