BEGIN:VCALENDAR
CALSCALE:GREGORIAN
VERSION:2.0
METHOD:PUBLISH 
X-WR-CALNAME:
BEGIN:VEVENT
DTSTART;TZID=Europe/Paris:20260411T103000
DTEND;TZID=Europe/Paris:20260411T113000
SUMMARY:Profession artistes ou technicien.ne du spectacle: règles et usages
CATEGORIE:Stages, Ateliers et Initiations
GEO:47.20085100000000;-1.60856500000000
LOCATION:Salle municipale des Alouettes\, 6 Rue du Foehn\, 44100 Nantes\, France
URL:https://www.fest.fr/e/2415971
UID:2415971-1@fest.fr
END:VEVENT
BEGIN:VEVENT
DTSTART;TZID=Europe/Paris:20260412T103000
DTEND;TZID=Europe/Paris:20260412T113000
SUMMARY:Profession artistes ou technicien.ne du spectacle: règles et usages
CATEGORIE:Stages, Ateliers et Initiations
GEO:47.20085100000000;-1.60856500000000
LOCATION:Salle municipale des Alouettes\, 6 Rue du Foehn\, 44100 Nantes\, France
URL:https://www.fest.fr/e/2415971
UID:2415971-2@fest.fr
END:VEVENT
END:VCALENDAR
