BEGIN:VCALENDAR
CALSCALE:GREGORIAN
VERSION:2.0
METHOD:PUBLISH 
X-WR-CALNAME:
BEGIN:VEVENT
DTSTART;TZID=Europe/Paris:20270401T203000
DTEND;TZID=Europe/Paris:20270401T213000
SUMMARY:Mehdi Djaadi - Couleur Framboise - Tournée
CATEGORIE:Spectacles et théâtre
GEO:44.86147204188000;-0.52579093560000
LOCATION:Le Rocher de Palmer\, 1, rue Aristide Briand\, 33150 Cenon\, France
URL:https://www.fest.fr/e/2415947
UID:2415947-1@fest.fr
END:VEVENT
END:VCALENDAR
