BEGIN:VCALENDAR
CALSCALE:GREGORIAN
VERSION:2.0
METHOD:PUBLISH 
X-WR-CALNAME:
BEGIN:VEVENT
DTSTART;TZID=Europe/Paris:20260523T180000
DTEND;TZID=Europe/Paris:20260523T190000
SUMMARY:Découverte des collections
CATEGORIE:Expositions, Visites et Découvertes
GEO:50.72235500000000;1.61102900000000
LOCATION:École-Musée de Boulogne-sur-Mer\, 2 rue de l'ancien rivage\, 62200 Boulogne-sur-Mer\, France
URL:https://www.fest.fr/e/2415906
UID:2415906-1@fest.fr
END:VEVENT
END:VCALENDAR
