BEGIN:VCALENDAR
CALSCALE:GREGORIAN
VERSION:2.0
METHOD:PUBLISH 
X-WR-CALNAME:
BEGIN:VEVENT
DTSTART;TZID=Europe/Paris:20260718T123456
DTEND;TZID=Europe/Paris:20260718T133456
SUMMARY:Été à Pau 2026 : 45ème édition
CATEGORIE:Spectacles et Théâtre
GEO:43.29477140000000;-0.35914030000000
LOCATION:Avenue du Général Poeymirau
Théâtre de Verdure\, 64000 Pau\, France
URL:https://www.fest.fr/e/2415885
UID:2415885-1@fest.fr
END:VEVENT
END:VCALENDAR
