BEGIN:VCALENDAR
CALSCALE:GREGORIAN
VERSION:2.0
METHOD:PUBLISH 
X-WR-CALNAME:
BEGIN:VEVENT
DTSTART;TZID=Europe/Paris:20260604T153000
DTEND;TZID=Europe/Paris:20260604T163000
SUMMARY:Rando à la ferme avec Trott'Iraty
CATEGORIE:Randonnées et balades
GEO:43.16198840000000;-1.24071230000000
LOCATION:Parking des Fauvettes\, 64220 Saint-Jean-Pied-de-Port\, France
URL:https://www.fest.fr/e/2415866
UID:2415866-1@fest.fr
END:VEVENT
END:VCALENDAR
