BEGIN:VCALENDAR
CALSCALE:GREGORIAN
VERSION:2.0
METHOD:PUBLISH 
X-WR-CALNAME:
BEGIN:VEVENT
DTSTART;TZID=Europe/Paris:20260510T090000
DTEND;TZID=Europe/Paris:20260510T100000
SUMMARY:Le petit vide grenier de l'Amicale Laïque
CATEGORIE:Brocantes, Bourses et Vide-Greniers
GEO:44.31300720000000;0.09167406000000
LOCATION:Place de la Cardine\, 47700 Casteljaloux\, France
URL:https://www.fest.fr/e/2415863
UID:2415863-1@fest.fr
END:VEVENT
END:VCALENDAR
