BEGIN:VCALENDAR
CALSCALE:GREGORIAN
VERSION:2.0
METHOD:PUBLISH 
X-WR-CALNAME:
BEGIN:VEVENT
DTSTART;TZID=Europe/Paris:20260523T180000
DTEND;TZID=Europe/Paris:20260523T190000
SUMMARY:Jeux picards au Château !
CATEGORIE:Stages, Ateliers et Initiations
GEO:49.89804900000000;3.62328100000000
LOCATION:Château Fort de Guise\, Allée Maurice Duton\, 02120 Guise\, France
URL:https://www.fest.fr/e/2415821
UID:2415821-1@fest.fr
END:VEVENT
END:VCALENDAR
