BEGIN:VCALENDAR
CALSCALE:GREGORIAN
VERSION:2.0
METHOD:PUBLISH 
X-WR-CALNAME:
BEGIN:VEVENT
DTSTART;TZID=Europe/Paris:20260509T093000
DTEND;TZID=Europe/Paris:20260509T103000
SUMMARY:Marche nordique
CATEGORIE:Randonnées et balades
GEO:44.76481600000000;0.49612600000000
LOCATION:Mairie\, 24240 Ribagnac\, France
URL:https://www.fest.fr/e/2415805
UID:2415805-1@fest.fr
END:VEVENT
END:VCALENDAR
