BEGIN:VCALENDAR
CALSCALE:GREGORIAN
VERSION:2.0
METHOD:PUBLISH 
X-WR-CALNAME:
BEGIN:VEVENT
DTSTART;TZID=Europe/Paris:20260410T160000
DTEND;TZID=Europe/Paris:20260410T170000
SUMMARY:Atelier d'écriture Sœurcière
CATEGORIE:Stages, Ateliers et Initiations
GEO:47.20664100000000;-1.57400900000000
LOCATION:Maison Des Femmes\, 15 Quai Ernest Renaud\, 44100 Nantes\, France
URL:https://www.fest.fr/e/2415775
UID:2415775-1@fest.fr
END:VEVENT
END:VCALENDAR
