BEGIN:VCALENDAR
CALSCALE:GREGORIAN
VERSION:2.0
METHOD:PUBLISH 
X-WR-CALNAME:
BEGIN:VEVENT
DTSTART;TZID=Europe/Paris:20260606T093000
DTEND;TZID=Europe/Paris:20260606T103000
SUMMARY:Bougez pour la nature
CATEGORIE:Social et solidaire
GEO:44.54940240000000;1.32613310000000
LOCATION:538 Rte de Saint-Medard\, 46150 Catus\, France
URL:https://www.fest.fr/e/2415494
UID:2415494-1@fest.fr
END:VEVENT
END:VCALENDAR
