BEGIN:VCALENDAR
CALSCALE:GREGORIAN
VERSION:2.0
METHOD:PUBLISH 
X-WR-CALNAME:
BEGIN:VEVENT
DTSTART;TZID=Europe/Paris:20260425T190000
DTEND;TZID=Europe/Paris:20260425T200000
SUMMARY:Soirée années 80 à nos jours
CATEGORIE:Bals et Thés Dansants
GEO:44.81746000000000;1.46079000000000
LOCATION:Route de l'Église\, 46350 Loupiac\, France
URL:https://www.fest.fr/e/2415486
UID:2415486-1@fest.fr
END:VEVENT
END:VCALENDAR
