BEGIN:VCALENDAR
CALSCALE:GREGORIAN
VERSION:2.0
METHOD:PUBLISH 
X-WR-CALNAME:
BEGIN:VEVENT
DTSTART;TZID=Europe/Paris:20260510T143000
DTEND;TZID=Europe/Paris:20260510T153000
SUMMARY:Balade à vélo sur les bords de Seine
CATEGORIE:Randonnées et balades
GEO:48.95938400000000;2.18935500000000
LOCATION:Cormeilles en Parisis\, Esplanade Jean Ferrier à devant le Théâtre du Cormier\, 95240 Cormeilles-en-Parisis\, France
URL:https://www.fest.fr/e/2415372
UID:2415372-1@fest.fr
END:VEVENT
BEGIN:VEVENT
DTSTART;TZID=Europe/Paris:20260510T150000
DTEND;TZID=Europe/Paris:20260510T160000
SUMMARY:Balade à vélo sur les bords de Seine
CATEGORIE:Randonnées et balades
GEO:48.95938400000000;2.18935500000000
LOCATION:Cormeilles en Parisis\, Esplanade Jean Ferrier à devant le Théâtre du Cormier\, 95240 Cormeilles-en-Parisis\, France
URL:https://www.fest.fr/e/2415372
UID:2415372-2@fest.fr
END:VEVENT
END:VCALENDAR
