BEGIN:VCALENDAR
CALSCALE:GREGORIAN
VERSION:2.0
METHOD:PUBLISH 
X-WR-CALNAME:
BEGIN:VEVENT
DTSTART;TZID=Europe/Paris:20260523T190000
DTEND;TZID=Europe/Paris:20260523T200000
SUMMARY:Visite nocturne en musique
CATEGORIE:Expositions, Visites et Découvertes
GEO:48.87088500000000;2.31705900000000
LOCATION:La Maison Élysée\, 88 rue du Faubourg Saint-honoré\, 75008 Paris 8e\, France
URL:https://www.fest.fr/e/2415332
UID:2415332-1@fest.fr
END:VEVENT
END:VCALENDAR
