BEGIN:VCALENDAR
CALSCALE:GREGORIAN
VERSION:2.0
METHOD:PUBLISH 
X-WR-CALNAME:
BEGIN:VEVENT
DTSTART;TZID=Europe/Paris:20260506T140000
DTEND;TZID=Europe/Paris:20260506T150000
SUMMARY:Les Mercredis du Pôle " Décore ton cadre photo! "
CATEGORIE:Stages, Ateliers et Initiations
GEO:44.13006400000000;4.06802800000000
LOCATION:Pôle culturel et scientifique de Rochebelle\, 155 faubourg de Rochebelle\, 30100 Alès\, France
URL:https://www.fest.fr/e/2415228
UID:2415228-1@fest.fr
END:VEVENT
END:VCALENDAR
