BEGIN:VCALENDAR
CALSCALE:GREGORIAN
VERSION:2.0
METHOD:PUBLISH 
X-WR-CALNAME:
BEGIN:VEVENT
DTSTART;TZID=Europe/Paris:20260523T153000
DTEND;TZID=Europe/Paris:20260523T163000
SUMMARY:Perf'in Situ : la Compagnie CTC danse au musée Stendhal !
CATEGORIE:Spectacles et Théâtre
GEO:45.19148100000000;5.72808300000000
LOCATION:Musée Stendhal\, 20 Grand Rue\, 38000 Grenoble\, France
URL:https://www.fest.fr/e/2415217
UID:2415217-1@fest.fr
END:VEVENT
BEGIN:VEVENT
DTSTART;TZID=Europe/Paris:20260523T170000
DTEND;TZID=Europe/Paris:20260523T180000
SUMMARY:Perf'in Situ : la Compagnie CTC danse au musée Stendhal !
CATEGORIE:Spectacles et Théâtre
GEO:45.19148100000000;5.72808300000000
LOCATION:Musée Stendhal\, 20 Grand Rue\, 38000 Grenoble\, France
URL:https://www.fest.fr/e/2415217
UID:2415217-2@fest.fr
END:VEVENT
BEGIN:VEVENT
DTSTART;TZID=Europe/Paris:20260523T183000
DTEND;TZID=Europe/Paris:20260523T193000
SUMMARY:Perf'in Situ : la Compagnie CTC danse au musée Stendhal !
CATEGORIE:Spectacles et Théâtre
GEO:45.19148100000000;5.72808300000000
LOCATION:Musée Stendhal\, 20 Grand Rue\, 38000 Grenoble\, France
URL:https://www.fest.fr/e/2415217
UID:2415217-3@fest.fr
END:VEVENT
END:VCALENDAR
