BEGIN:VCALENDAR
CALSCALE:GREGORIAN
VERSION:2.0
METHOD:PUBLISH 
X-WR-CALNAME:
BEGIN:VEVENT
DTSTART;TZID=Europe/Paris:20260425T203000
DTEND;TZID=Europe/Paris:20260425T213000
SUMMARY:Concert Funk au Meeple
CATEGORIE:Concerts et Musique
GEO:48.76009572163638;1.92009177758788
LOCATION:Meeple\, Rond point Laurent Schwartz\, 78310 Maurepas\, France
URL:https://www.fest.fr/e/2414532
UID:2414532-1@fest.fr
END:VEVENT
END:VCALENDAR
