BEGIN:VCALENDAR
CALSCALE:GREGORIAN
VERSION:2.0
METHOD:PUBLISH 
X-WR-CALNAME:
BEGIN:VEVENT
DTSTART;TZID=Europe/Paris:20270121T200000
DTEND;TZID=Europe/Paris:20270121T210000
SUMMARY:MERYEM BENOUA 
CATEGORIE:Spectacles et Théâtre
GEO:45.75909780000000;4.84722410000000
LOCATION:205, place Guichard\, 69003 Lyon 3e\, France
URL:https://www.fest.fr/e/2414432
UID:2414432-1@fest.fr
END:VEVENT
END:VCALENDAR
