BEGIN:VCALENDAR
CALSCALE:GREGORIAN
VERSION:2.0
METHOD:PUBLISH 
X-WR-CALNAME:
BEGIN:VEVENT
DTSTART;TZID=Europe/Paris:20270114T200000
DTEND;TZID=Europe/Paris:20270114T210000
SUMMARY:IL ÉTAIT UNE FOIS... ENNIO MORRICONE ET NINO ROTA
CATEGORIE:Spectacles et Théâtre
GEO:46.20279000000000;5.21924600000000
LOCATION:Site d'Ainterexpo\, 01000 Bourg-en-Bresse\, France
URL:https://www.fest.fr/e/2414310
UID:2414310-1@fest.fr
END:VEVENT
END:VCALENDAR
