BEGIN:VCALENDAR
CALSCALE:GREGORIAN
VERSION:2.0
METHOD:PUBLISH 
X-WR-CALNAME:
BEGIN:VEVENT
DTSTART;TZID=Europe/Paris:20270114T200000
DTEND;TZID=Europe/Paris:20270114T210000
SUMMARY:Le Seigneur des Anneaux &amp; le Hobbit
CATEGORIE:Concerts et Musique
GEO:48.24576530000000;6.42777480000000
LOCATION:7, avenue Pierre de Coubertin\, 88150 Thaon-les-Vosges\, France
URL:https://www.fest.fr/e/2414299
UID:2414299-1@fest.fr
END:VEVENT
END:VCALENDAR
