BEGIN:VCALENDAR
CALSCALE:GREGORIAN
VERSION:2.0
METHOD:PUBLISH 
X-WR-CALNAME:
BEGIN:VEVENT
DTSTART;TZID=Europe/Paris:20261212T200000
DTEND;TZID=Europe/Paris:20261212T210000
SUMMARY:LAURENT GERRA
CATEGORIE:Spectacles et Théâtre
GEO:48.28995480000000;4.07234920000000
LOCATION:Boulevard Charles Delestraint\, 10000 Troyes\, France
URL:https://www.fest.fr/e/2413961
UID:2413961-1@fest.fr
END:VEVENT
END:VCALENDAR
