BEGIN:VCALENDAR
CALSCALE:GREGORIAN
VERSION:2.0
METHOD:PUBLISH 
X-WR-CALNAME:
BEGIN:VEVENT
DTSTART;TZID=Europe/Paris:20261212T200000
DTEND;TZID=Europe/Paris:20261212T210000
SUMMARY:THOMAS MARTY
CATEGORIE:Spectacles et Théâtre
GEO:47.39166990000000;0.69338140000000
LOCATION:26, boulevard Heurteloup\, 37000 Tours\, France
URL:https://www.fest.fr/e/2413942
UID:2413942-1@fest.fr
END:VEVENT
END:VCALENDAR
