BEGIN:VCALENDAR
CALSCALE:GREGORIAN
VERSION:2.0
METHOD:PUBLISH 
X-WR-CALNAME:
BEGIN:VEVENT
DTSTART;TZID=Europe/Paris:20261128T200000
DTEND;TZID=Europe/Paris:20261128T210000
SUMMARY:SO LA LUNE
CATEGORIE:Concerts et musique
GEO:48.10655940000000;-1.67651880000000
LOCATION:Esplanade Charles de Gaulle\, 35000 Rennes\, France
URL:https://www.fest.fr/e/2413598
UID:2413598-1@fest.fr
END:VEVENT
END:VCALENDAR
