BEGIN:VCALENDAR
CALSCALE:GREGORIAN
VERSION:2.0
METHOD:PUBLISH 
X-WR-CALNAME:
BEGIN:VEVENT
DTSTART;TZID=Europe/Paris:20261126T200000
DTEND;TZID=Europe/Paris:20261126T210000
SUMMARY:MICHELE LAROQUE ET KAD MERAD
CATEGORIE:Spectacles et Théâtre
GEO:47.35634050000000;5.05891500000000
LOCATION:Parc de la Toison d'Or - rue de Colchide\, 21000 Dijon\, France
URL:https://www.fest.fr/e/2413487
UID:2413487-1@fest.fr
END:VEVENT
END:VCALENDAR
