BEGIN:VCALENDAR
CALSCALE:GREGORIAN
VERSION:2.0
METHOD:PUBLISH 
X-WR-CALNAME:
BEGIN:VEVENT
DTSTART;TZID=Europe/Paris:20261125T200000
DTEND;TZID=Europe/Paris:20261125T210000
SUMMARY:FATOUMATA DIAWARA
CATEGORIE:Concerts et musique
GEO:48.86993660000000;2.32826110000000
LOCATION:28, boulevard des Capucines\, 75009 Paris 9e\, France
URL:https://www.fest.fr/e/2413443
UID:2413443-1@fest.fr
END:VEVENT
END:VCALENDAR
