BEGIN:VCALENDAR
CALSCALE:GREGORIAN
VERSION:2.0
METHOD:PUBLISH 
X-WR-CALNAME:
BEGIN:VEVENT
DTSTART;TZID=Europe/Paris:20261104T200000
DTEND;TZID=Europe/Paris:20261104T210000
SUMMARY:REMI BOYES
CATEGORIE:Spectacles et Théâtre
GEO:43.59919330000000;1.41177630000000
LOCATION:16 ter avenue Raymond Badiou\, 31300 TOULOUSE\, France
URL:https://www.fest.fr/e/2412753
UID:2412753-1@fest.fr
END:VEVENT
END:VCALENDAR
