BEGIN:VCALENDAR
CALSCALE:GREGORIAN
VERSION:2.0
METHOD:PUBLISH 
X-WR-CALNAME:
BEGIN:VEVENT
DTSTART;TZID=Europe/Paris:20261030T200000
DTEND;TZID=Europe/Paris:20261030T210000
SUMMARY:MONTE-CRISTO, LE SPECTACLE MUSICAL
CATEGORIE:Spectacles et Théâtre
GEO:49.40200000000000;1.06510000000000
LOCATION:Avenue des Canadiens\, 76120 Le Grand-Quevilly\, France
URL:https://www.fest.fr/e/2412678
UID:2412678-1@fest.fr
END:VEVENT
END:VCALENDAR
