BEGIN:VCALENDAR
CALSCALE:GREGORIAN
VERSION:2.0
METHOD:PUBLISH 
X-WR-CALNAME:
BEGIN:VEVENT
DTSTART;TZID=Europe/Paris:20261025T193000
DTEND;TZID=Europe/Paris:20261025T203000
SUMMARY:DENA MWANA
CATEGORIE:Concerts et musique
GEO:48.88909230000000;2.39443200000000
LOCATION:211 av Jean Jaures\, 75019 Paris 19e\, France
URL:https://www.fest.fr/e/2412582
UID:2412582-1@fest.fr
END:VEVENT
END:VCALENDAR
