BEGIN:VCALENDAR
CALSCALE:GREGORIAN
VERSION:2.0
METHOD:PUBLISH 
X-WR-CALNAME:
BEGIN:VEVENT
DTSTART;TZID=Europe/Paris:20261025T100000
DTEND;TZID=Europe/Paris:20261025T110000
SUMMARY:ATELIERS APPRENTIS MAGICIENS
CATEGORIE:Spectacles et Théâtre
GEO:44.95596600000000;5.14151800000000
LOCATION:20 Grande Rue\, 26300 Barbières\, France
URL:https://www.fest.fr/e/2412556
UID:2412556-1@fest.fr
END:VEVENT
END:VCALENDAR
