BEGIN:VCALENDAR
CALSCALE:GREGORIAN
VERSION:2.0
METHOD:PUBLISH 
X-WR-CALNAME:
BEGIN:VEVENT
DTSTART;TZID=Europe/Paris:20261024T200000
DTEND;TZID=Europe/Paris:20261024T210000
SUMMARY:FILLS MONKEY FÊTENT LEURS 20 ANS
CATEGORIE:Concerts et musique
GEO:48.86993660000000;2.32826110000000
LOCATION:28, boulevard des Capucines\, 75009 Paris 9e\, France
URL:https://www.fest.fr/e/2412532
UID:2412532-1@fest.fr
END:VEVENT
END:VCALENDAR
