BEGIN:VCALENDAR
CALSCALE:GREGORIAN
VERSION:2.0
METHOD:PUBLISH 
X-WR-CALNAME:
BEGIN:VEVENT
DTSTART;TZID=Europe/Paris:20261022T203000
DTEND;TZID=Europe/Paris:20261022T213000
SUMMARY:PINK MARTINI
CATEGORIE:Concerts et musique
GEO:47.25832000000000;-1.52812400000000
LOCATION:ROUTE DE ST JOSEPH\, 44300 NANTES\, France
URL:https://www.fest.fr/e/2412458
UID:2412458-1@fest.fr
END:VEVENT
END:VCALENDAR
