BEGIN:VCALENDAR
CALSCALE:GREGORIAN
VERSION:2.0
METHOD:PUBLISH 
X-WR-CALNAME:
BEGIN:VEVENT
DTSTART;TZID=Europe/Paris:20260927T190000
DTEND;TZID=Europe/Paris:20260927T200000
SUMMARY:LETZ ZEP
CATEGORIE:Concerts et musique
GEO:47.39166990000000;0.69338140000000
LOCATION:26, boulevard Heurteloup\, 37000 Tours\, France
URL:https://www.fest.fr/e/2411881
UID:2411881-1@fest.fr
END:VEVENT
END:VCALENDAR
