BEGIN:VCALENDAR
CALSCALE:GREGORIAN
VERSION:2.0
METHOD:PUBLISH 
X-WR-CALNAME:
BEGIN:VEVENT
DTSTART;TZID=Europe/Paris:20260905T200000
DTEND;TZID=Europe/Paris:20260905T210000
SUMMARY:MATMATAH &amp; THE FUZZY BRASS FOUR
CATEGORIE:Concerts et musique
GEO:45.99221730000000;5.02675540000000
LOCATION:RD 1083\, 01330 Villars-les-Dombes\, France
URL:https://www.fest.fr/e/2411679
UID:2411679-1@fest.fr
END:VEVENT
END:VCALENDAR
