BEGIN:VCALENDAR
CALSCALE:GREGORIAN
VERSION:2.0
METHOD:PUBLISH 
X-WR-CALNAME:
BEGIN:VEVENT
DTSTART;TZID=Europe/Paris:20260824T190000
DTEND;TZID=Europe/Paris:20260824T200000
SUMMARY:Renaud Capuçon, Guillaume Bellom - sonates de Bach
CATEGORIE:Concerts et musique
GEO:44.79946300000000;1.61768400000000
LOCATION:D673\, 46500 Rocamadour\, France
URL:https://www.fest.fr/e/2411622
UID:2411622-1@fest.fr
END:VEVENT
END:VCALENDAR
