BEGIN:VCALENDAR
CALSCALE:GREGORIAN
VERSION:2.0
METHOD:PUBLISH 
X-WR-CALNAME:
BEGIN:VEVENT
DTSTART;TZID=Europe/Paris:20260821T103000
DTEND;TZID=Europe/Paris:20260821T113000
SUMMARY:GIANNI VERSACE RETROSPECTIVE
CATEGORIE:Expositions, Visites et Découvertes
GEO:48.85478160000000;2.32490930000000
LOCATION:59-61 rue de Grenelle\, 75007 Paris 7e\, France
URL:https://www.fest.fr/e/2411599
UID:2411599-1@fest.fr
END:VEVENT
BEGIN:VEVENT
DTSTART;TZID=Europe/Paris:20260821T110000
DTEND;TZID=Europe/Paris:20260821T120000
SUMMARY:GIANNI VERSACE RETROSPECTIVE
CATEGORIE:Expositions, Visites et Découvertes
GEO:48.85478160000000;2.32490930000000
LOCATION:59-61 rue de Grenelle\, 75007 Paris 7e\, France
URL:https://www.fest.fr/e/2411599
UID:2411599-2@fest.fr
END:VEVENT
BEGIN:VEVENT
DTSTART;TZID=Europe/Paris:20260821T113000
DTEND;TZID=Europe/Paris:20260821T123000
SUMMARY:GIANNI VERSACE RETROSPECTIVE
CATEGORIE:Expositions, Visites et Découvertes
GEO:48.85478160000000;2.32490930000000
LOCATION:59-61 rue de Grenelle\, 75007 Paris 7e\, France
URL:https://www.fest.fr/e/2411599
UID:2411599-3@fest.fr
END:VEVENT
BEGIN:VEVENT
DTSTART;TZID=Europe/Paris:20260821T120000
DTEND;TZID=Europe/Paris:20260821T130000
SUMMARY:GIANNI VERSACE RETROSPECTIVE
CATEGORIE:Expositions, Visites et Découvertes
GEO:48.85478160000000;2.32490930000000
LOCATION:59-61 rue de Grenelle\, 75007 Paris 7e\, France
URL:https://www.fest.fr/e/2411599
UID:2411599-4@fest.fr
END:VEVENT
BEGIN:VEVENT
DTSTART;TZID=Europe/Paris:20260821T123000
DTEND;TZID=Europe/Paris:20260821T133000
SUMMARY:GIANNI VERSACE RETROSPECTIVE
CATEGORIE:Expositions, Visites et Découvertes
GEO:48.85478160000000;2.32490930000000
LOCATION:59-61 rue de Grenelle\, 75007 Paris 7e\, France
URL:https://www.fest.fr/e/2411599
UID:2411599-5@fest.fr
END:VEVENT
BEGIN:VEVENT
DTSTART;TZID=Europe/Paris:20260821T130000
DTEND;TZID=Europe/Paris:20260821T140000
SUMMARY:GIANNI VERSACE RETROSPECTIVE
CATEGORIE:Expositions, Visites et Découvertes
GEO:48.85478160000000;2.32490930000000
LOCATION:59-61 rue de Grenelle\, 75007 Paris 7e\, France
URL:https://www.fest.fr/e/2411599
UID:2411599-6@fest.fr
END:VEVENT
BEGIN:VEVENT
DTSTART;TZID=Europe/Paris:20260821T133000
DTEND;TZID=Europe/Paris:20260821T143000
SUMMARY:GIANNI VERSACE RETROSPECTIVE
CATEGORIE:Expositions, Visites et Découvertes
GEO:48.85478160000000;2.32490930000000
LOCATION:59-61 rue de Grenelle\, 75007 Paris 7e\, France
URL:https://www.fest.fr/e/2411599
UID:2411599-7@fest.fr
END:VEVENT
BEGIN:VEVENT
DTSTART;TZID=Europe/Paris:20260821T140000
DTEND;TZID=Europe/Paris:20260821T150000
SUMMARY:GIANNI VERSACE RETROSPECTIVE
CATEGORIE:Expositions, Visites et Découvertes
GEO:48.85478160000000;2.32490930000000
LOCATION:59-61 rue de Grenelle\, 75007 Paris 7e\, France
URL:https://www.fest.fr/e/2411599
UID:2411599-8@fest.fr
END:VEVENT
BEGIN:VEVENT
DTSTART;TZID=Europe/Paris:20260821T143000
DTEND;TZID=Europe/Paris:20260821T153000
SUMMARY:GIANNI VERSACE RETROSPECTIVE
CATEGORIE:Expositions, Visites et Découvertes
GEO:48.85478160000000;2.32490930000000
LOCATION:59-61 rue de Grenelle\, 75007 Paris 7e\, France
URL:https://www.fest.fr/e/2411599
UID:2411599-9@fest.fr
END:VEVENT
BEGIN:VEVENT
DTSTART;TZID=Europe/Paris:20260821T150000
DTEND;TZID=Europe/Paris:20260821T160000
SUMMARY:GIANNI VERSACE RETROSPECTIVE
CATEGORIE:Expositions, Visites et Découvertes
GEO:48.85478160000000;2.32490930000000
LOCATION:59-61 rue de Grenelle\, 75007 Paris 7e\, France
URL:https://www.fest.fr/e/2411599
UID:2411599-10@fest.fr
END:VEVENT
BEGIN:VEVENT
DTSTART;TZID=Europe/Paris:20260821T153000
DTEND;TZID=Europe/Paris:20260821T163000
SUMMARY:GIANNI VERSACE RETROSPECTIVE
CATEGORIE:Expositions, Visites et Découvertes
GEO:48.85478160000000;2.32490930000000
LOCATION:59-61 rue de Grenelle\, 75007 Paris 7e\, France
URL:https://www.fest.fr/e/2411599
UID:2411599-11@fest.fr
END:VEVENT
BEGIN:VEVENT
DTSTART;TZID=Europe/Paris:20260821T160000
DTEND;TZID=Europe/Paris:20260821T170000
SUMMARY:GIANNI VERSACE RETROSPECTIVE
CATEGORIE:Expositions, Visites et Découvertes
GEO:48.85478160000000;2.32490930000000
LOCATION:59-61 rue de Grenelle\, 75007 Paris 7e\, France
URL:https://www.fest.fr/e/2411599
UID:2411599-12@fest.fr
END:VEVENT
BEGIN:VEVENT
DTSTART;TZID=Europe/Paris:20260821T163000
DTEND;TZID=Europe/Paris:20260821T173000
SUMMARY:GIANNI VERSACE RETROSPECTIVE
CATEGORIE:Expositions, Visites et Découvertes
GEO:48.85478160000000;2.32490930000000
LOCATION:59-61 rue de Grenelle\, 75007 Paris 7e\, France
URL:https://www.fest.fr/e/2411599
UID:2411599-13@fest.fr
END:VEVENT
BEGIN:VEVENT
DTSTART;TZID=Europe/Paris:20260821T170000
DTEND;TZID=Europe/Paris:20260821T180000
SUMMARY:GIANNI VERSACE RETROSPECTIVE
CATEGORIE:Expositions, Visites et Découvertes
GEO:48.85478160000000;2.32490930000000
LOCATION:59-61 rue de Grenelle\, 75007 Paris 7e\, France
URL:https://www.fest.fr/e/2411599
UID:2411599-14@fest.fr
END:VEVENT
BEGIN:VEVENT
DTSTART;TZID=Europe/Paris:20260821T173000
DTEND;TZID=Europe/Paris:20260821T183000
SUMMARY:GIANNI VERSACE RETROSPECTIVE
CATEGORIE:Expositions, Visites et Découvertes
GEO:48.85478160000000;2.32490930000000
LOCATION:59-61 rue de Grenelle\, 75007 Paris 7e\, France
URL:https://www.fest.fr/e/2411599
UID:2411599-15@fest.fr
END:VEVENT
END:VCALENDAR
