BEGIN:VCALENDAR
CALSCALE:GREGORIAN
VERSION:2.0
METHOD:PUBLISH 
X-WR-CALNAME:
BEGIN:VEVENT
DTSTART;TZID=Europe/Paris:20260813T170000
DTEND;TZID=Europe/Paris:20260813T180000
SUMMARY:FESTIVAL SPIRIT IN BLACK "UNWIND" PASS 2 JOURS
CATEGORIE:Concerts et Musique
GEO:48.10889100000000;7.35833300000000
LOCATION:19, rue des jardins\, 68000 Colmar\, France
URL:https://www.fest.fr/e/2411545
UID:2411545-1@fest.fr
END:VEVENT
END:VCALENDAR
