BEGIN:VCALENDAR
CALSCALE:GREGORIAN
VERSION:2.0
METHOD:PUBLISH 
X-WR-CALNAME:
BEGIN:VEVENT
DTSTART;TZID=Europe/Paris:20260803T103000
DTEND;TZID=Europe/Paris:20260803T113000
SUMMARY:GIANNI VERSACE RETROSPECTIVE
CATEGORIE:Expositions, Visites et Découvertes
GEO:48.85478160000000;2.32490930000000
LOCATION:59-61 rue de Grenelle\, 75007 Paris 7e\, France
URL:https://www.fest.fr/e/2411497
UID:2411497-1@fest.fr
END:VEVENT
BEGIN:VEVENT
DTSTART;TZID=Europe/Paris:20260803T110000
DTEND;TZID=Europe/Paris:20260803T120000
SUMMARY:GIANNI VERSACE RETROSPECTIVE
CATEGORIE:Expositions, Visites et Découvertes
GEO:48.85478160000000;2.32490930000000
LOCATION:59-61 rue de Grenelle\, 75007 Paris 7e\, France
URL:https://www.fest.fr/e/2411497
UID:2411497-2@fest.fr
END:VEVENT
BEGIN:VEVENT
DTSTART;TZID=Europe/Paris:20260803T113000
DTEND;TZID=Europe/Paris:20260803T123000
SUMMARY:GIANNI VERSACE RETROSPECTIVE
CATEGORIE:Expositions, Visites et Découvertes
GEO:48.85478160000000;2.32490930000000
LOCATION:59-61 rue de Grenelle\, 75007 Paris 7e\, France
URL:https://www.fest.fr/e/2411497
UID:2411497-3@fest.fr
END:VEVENT
BEGIN:VEVENT
DTSTART;TZID=Europe/Paris:20260803T120000
DTEND;TZID=Europe/Paris:20260803T130000
SUMMARY:GIANNI VERSACE RETROSPECTIVE
CATEGORIE:Expositions, Visites et Découvertes
GEO:48.85478160000000;2.32490930000000
LOCATION:59-61 rue de Grenelle\, 75007 Paris 7e\, France
URL:https://www.fest.fr/e/2411497
UID:2411497-4@fest.fr
END:VEVENT
BEGIN:VEVENT
DTSTART;TZID=Europe/Paris:20260803T123000
DTEND;TZID=Europe/Paris:20260803T133000
SUMMARY:GIANNI VERSACE RETROSPECTIVE
CATEGORIE:Expositions, Visites et Découvertes
GEO:48.85478160000000;2.32490930000000
LOCATION:59-61 rue de Grenelle\, 75007 Paris 7e\, France
URL:https://www.fest.fr/e/2411497
UID:2411497-5@fest.fr
END:VEVENT
BEGIN:VEVENT
DTSTART;TZID=Europe/Paris:20260803T130000
DTEND;TZID=Europe/Paris:20260803T140000
SUMMARY:GIANNI VERSACE RETROSPECTIVE
CATEGORIE:Expositions, Visites et Découvertes
GEO:48.85478160000000;2.32490930000000
LOCATION:59-61 rue de Grenelle\, 75007 Paris 7e\, France
URL:https://www.fest.fr/e/2411497
UID:2411497-6@fest.fr
END:VEVENT
BEGIN:VEVENT
DTSTART;TZID=Europe/Paris:20260803T133000
DTEND;TZID=Europe/Paris:20260803T143000
SUMMARY:GIANNI VERSACE RETROSPECTIVE
CATEGORIE:Expositions, Visites et Découvertes
GEO:48.85478160000000;2.32490930000000
LOCATION:59-61 rue de Grenelle\, 75007 Paris 7e\, France
URL:https://www.fest.fr/e/2411497
UID:2411497-7@fest.fr
END:VEVENT
BEGIN:VEVENT
DTSTART;TZID=Europe/Paris:20260803T140000
DTEND;TZID=Europe/Paris:20260803T150000
SUMMARY:GIANNI VERSACE RETROSPECTIVE
CATEGORIE:Expositions, Visites et Découvertes
GEO:48.85478160000000;2.32490930000000
LOCATION:59-61 rue de Grenelle\, 75007 Paris 7e\, France
URL:https://www.fest.fr/e/2411497
UID:2411497-8@fest.fr
END:VEVENT
BEGIN:VEVENT
DTSTART;TZID=Europe/Paris:20260803T143000
DTEND;TZID=Europe/Paris:20260803T153000
SUMMARY:GIANNI VERSACE RETROSPECTIVE
CATEGORIE:Expositions, Visites et Découvertes
GEO:48.85478160000000;2.32490930000000
LOCATION:59-61 rue de Grenelle\, 75007 Paris 7e\, France
URL:https://www.fest.fr/e/2411497
UID:2411497-9@fest.fr
END:VEVENT
BEGIN:VEVENT
DTSTART;TZID=Europe/Paris:20260803T150000
DTEND;TZID=Europe/Paris:20260803T160000
SUMMARY:GIANNI VERSACE RETROSPECTIVE
CATEGORIE:Expositions, Visites et Découvertes
GEO:48.85478160000000;2.32490930000000
LOCATION:59-61 rue de Grenelle\, 75007 Paris 7e\, France
URL:https://www.fest.fr/e/2411497
UID:2411497-10@fest.fr
END:VEVENT
BEGIN:VEVENT
DTSTART;TZID=Europe/Paris:20260803T153000
DTEND;TZID=Europe/Paris:20260803T163000
SUMMARY:GIANNI VERSACE RETROSPECTIVE
CATEGORIE:Expositions, Visites et Découvertes
GEO:48.85478160000000;2.32490930000000
LOCATION:59-61 rue de Grenelle\, 75007 Paris 7e\, France
URL:https://www.fest.fr/e/2411497
UID:2411497-11@fest.fr
END:VEVENT
BEGIN:VEVENT
DTSTART;TZID=Europe/Paris:20260803T160000
DTEND;TZID=Europe/Paris:20260803T170000
SUMMARY:GIANNI VERSACE RETROSPECTIVE
CATEGORIE:Expositions, Visites et Découvertes
GEO:48.85478160000000;2.32490930000000
LOCATION:59-61 rue de Grenelle\, 75007 Paris 7e\, France
URL:https://www.fest.fr/e/2411497
UID:2411497-12@fest.fr
END:VEVENT
BEGIN:VEVENT
DTSTART;TZID=Europe/Paris:20260803T163000
DTEND;TZID=Europe/Paris:20260803T173000
SUMMARY:GIANNI VERSACE RETROSPECTIVE
CATEGORIE:Expositions, Visites et Découvertes
GEO:48.85478160000000;2.32490930000000
LOCATION:59-61 rue de Grenelle\, 75007 Paris 7e\, France
URL:https://www.fest.fr/e/2411497
UID:2411497-13@fest.fr
END:VEVENT
BEGIN:VEVENT
DTSTART;TZID=Europe/Paris:20260803T170000
DTEND;TZID=Europe/Paris:20260803T180000
SUMMARY:GIANNI VERSACE RETROSPECTIVE
CATEGORIE:Expositions, Visites et Découvertes
GEO:48.85478160000000;2.32490930000000
LOCATION:59-61 rue de Grenelle\, 75007 Paris 7e\, France
URL:https://www.fest.fr/e/2411497
UID:2411497-14@fest.fr
END:VEVENT
BEGIN:VEVENT
DTSTART;TZID=Europe/Paris:20260803T173000
DTEND;TZID=Europe/Paris:20260803T183000
SUMMARY:GIANNI VERSACE RETROSPECTIVE
CATEGORIE:Expositions, Visites et Découvertes
GEO:48.85478160000000;2.32490930000000
LOCATION:59-61 rue de Grenelle\, 75007 Paris 7e\, France
URL:https://www.fest.fr/e/2411497
UID:2411497-15@fest.fr
END:VEVENT
END:VCALENDAR
